BEGIN:VCALENDAR
VERSION:2.0
PRODID:-//Dew Yoga - ECPv6.15.17.1//NONSGML v1.0//EN
CALSCALE:GREGORIAN
METHOD:PUBLISH
X-ORIGINAL-URL:https://dewyoga.net
X-WR-CALDESC:Events for Dew Yoga
REFRESH-INTERVAL;VALUE=DURATION:PT1H
X-Robots-Tag:noindex
X-PUBLISHED-TTL:PT1H
BEGIN:VTIMEZONE
TZID:UTC
BEGIN:STANDARD
TZOFFSETFROM:+0000
TZOFFSETTO:+0000
TZNAME:UTC
DTSTART:20140101T000000
END:STANDARD
END:VTIMEZONE
BEGIN:VTIMEZONE
TZID:America/New_York
BEGIN:DAYLIGHT
TZOFFSETFROM:-0500
TZOFFSETTO:-0400
TZNAME:EDT
DTSTART:20140309T070000
END:DAYLIGHT
BEGIN:STANDARD
TZOFFSETFROM:-0400
TZOFFSETTO:-0500
TZNAME:EST
DTSTART:20141102T060000
END:STANDARD
BEGIN:DAYLIGHT
TZOFFSETFROM:-0500
TZOFFSETTO:-0400
TZNAME:EDT
DTSTART:20150308T070000
END:DAYLIGHT
BEGIN:STANDARD
TZOFFSETFROM:-0400
TZOFFSETTO:-0500
TZNAME:EST
DTSTART:20151101T060000
END:STANDARD
BEGIN:DAYLIGHT
TZOFFSETFROM:-0500
TZOFFSETTO:-0400
TZNAME:EDT
DTSTART:20160313T070000
END:DAYLIGHT
BEGIN:STANDARD
TZOFFSETFROM:-0400
TZOFFSETTO:-0500
TZNAME:EST
DTSTART:20161106T060000
END:STANDARD
END:VTIMEZONE
BEGIN:VEVENT
DTSTART;TZID=UTC:20150925T190000
DTEND;TZID=UTC:20150925T203000
DTSTAMP:20260424T084130
CREATED:20150915T222035Z
LAST-MODIFIED:20150915T222101Z
UID:1985-1443207600-1443213000@dewyoga.net
SUMMARY:Equinox Event: 5 Element Yoga with Yoga Nidra and Sound Healing with Alison DeNicola and Rowena Zabrodsky
DESCRIPTION:The Fall Equinox marks the time of year when we begin the journey inward once again. Balancing our energy and finding deep rest and relaxation can assist us in making this transition. You are invited to join Alison DeNicola and Rowena Zabrodsky for a magical combination of 5 Element Yoga practices\, Yoga Nidra and Sound Healing to harmonize and bring your body\, mind\, and spirit into alignment. No experience is required- this is an anti stress workshop! Cost is $30/ person and pre- registration is required! \n 
URL:https://dewyoga.net/event/equinox-event-5-element-yoga-with-yoga-nidra-and-sound-healing-with-alison-denicola-and-rowena-zabrodsky/
LOCATION:Dew Yoga\, 123 High Ridge Road\, Stamford\, CT\, 06614\, United States
CATEGORIES:meditation
ATTACH;FMTTYPE=image/jpeg:https://dewyoga.net/wp-content/uploads/2015/09/10256397_10203407747538042_8998781358178932057_o.jpg
END:VEVENT
BEGIN:VEVENT
DTSTART;TZID=America/New_York:20150920T130000
DTEND;TZID=America/New_York:20150920T170000
DTSTAMP:20260424T084130
CREATED:20150612T160306Z
LAST-MODIFIED:20150915T220516Z
UID:1616-1442754000-1442768400@dewyoga.net
SUMMARY:Kripalu in-Depth~ Seasonal Sadhana with Ann and Jen!
DESCRIPTION:Take your Kripalu practice in depth to adapt to the change of seasons with Jen Irwin and Ann Russell. This four hour workshop will cover discussion\, instruction\, and practice of Ayurveda\, pranayama\, mantra\, meditation\, and asana. The tools we will learn and use are designed specifically for the Autumn equinox to help us adapt to our changing environment. Bring a journal. Avoid eating a heavy meal before this session. Suitable for all levels of Yoga experience. Modifications will be offered for yoigis with therapeutic concerns. If you have any questions in advance\, contact Jen or Ann. Pre- registration is required. The cost is $75 per student.
URL:https://dewyoga.net/event/seasonal-sadhana/
LOCATION:Dew Yoga\, 123 High Ridge Road\, Stamford\, CT\, 06614\, United States
CATEGORIES:meditation
ATTACH;FMTTYPE=image/jpeg:https://dewyoga.net/wp-content/uploads/2015/05/fern-bio-pic.jpg
END:VEVENT
END:VCALENDAR